BEGIN:VCALENDAR
VERSION:2.0
PRODID:-//ChamberMaster//Event Calendar 2.0//EN
METHOD:PUBLISH
X-PUBLISHED-TTL:P3D
REFRESH-INTERVAL:P3D
CALSCALE:GREGORIAN
BEGIN:VEVENT
DTSTART:20120706T230000Z
DTEND:20120707T020000Z
X-MICROSOFT-CDO-ALLDAYEVENT:FALSE
SUMMARY:SVGA Gallery Walks
DESCRIPTION:Each year SVGA hosts nine gallery walks which are eagerly anticipated and free to the public.  Locals and visitors alike take in thought-provoking exhibitions of newly installed art\, enjoy wine\, mingle with friends and often meet the artists.
X-ALT-DESC;FMTTYPE=text/html:Each year SVGA hosts nine gallery walks which are eagerly anticipated and free to the public.&nbsp\; Locals and visitors alike take in thought-provoking exhibitions of newly installed art\, enjoy wine\, mingle with friends and often meet the artists.
LOCATION:Throughout Ketchum.
UID:e.736.2908
SEQUENCE:3
DTSTAMP:20260426T002932Z
URL:http://haileyidaho.chambermaster.com/events/details/svga-gallery-walks-07-06-2012-2908
END:VEVENT

END:VCALENDAR
