BEGIN:VCALENDAR
VERSION:2.0
PRODID:-//ChamberMaster//Event Calendar 2.0//EN
METHOD:PUBLISH
X-PUBLISHED-TTL:P3D
REFRESH-INTERVAL:P3D
CALSCALE:GREGORIAN
BEGIN:VEVENT
DTSTART;VALUE=DATE:20120415
DTEND;VALUE=DATE:20120416
TRANSP:TRANSPARENT
X-MICROSOFT-CDO-ALLDAYEVENT:TRUE
SUMMARY:Baldy Spring Sun Fest
DESCRIPTION:For more info http://www.sunvalley.com/sunfest/
X-ALT-DESC;FMTTYPE=text/html:For more info <a href="http://www.sunvalley.com/sunfest/">http://www.sunvalley.com/sunfest/</a>
LOCATION:
UID:e.736.2514
SEQUENCE:3
DTSTAMP:20260423T173638Z
URL:http://haileyidaho.chambermaster.com/events/details/baldy-spring-sun-fest-04-15-2012-2514
END:VEVENT

END:VCALENDAR
